BEGIN:VCALENDAR
VERSION:2.0
PRODID:-//Squarespace Inc/Squarespace 6//v6//EN
BEGIN:VEVENT
UID:57e9cbca893fc0fa39400d39@squarespace.com
DTSTAMP:20161012T032813Z
DTSTART:20161025T220000Z
DTEND:20161027T060000Z
SUMMARY:Digital Fundraising Training
GEO:-37.811255;144.972688
LOCATION:Parliament Room\, Imperial Hotel (first floor)\, 2-8 Bourke Street
 \, Melbourne\, VIC\, 3000\, Australia
END:VEVENT
END:VCALENDAR
