BEGIN:VCALENDAR
VERSION:2.0
PRODID:-//Squarespace Inc/Squarespace 6//v6//EN
BEGIN:VEVENT
UID:5692f6269cadb61a0a184961@squarespace.com
DTSTAMP:20160225T001616Z
DTSTART:20160304T220000Z
DTEND:20160305T070000Z
SUMMARY:Train the Trainer
GEO:-37.816725;144.966125
LOCATION:Ross House\, 247 Flinders Lane\, Melbourne\, Australia
END:VEVENT
END:VCALENDAR
