BEGIN:VCALENDAR
VERSION:2.0
PRODID:-//Squarespace Inc/Squarespace 6//v6//EN
BEGIN:VEVENT
UID:568f1fc3dc5cb46c9e6c4d0a@squarespace.com
DTSTAMP:20160202T004503Z
DTSTART:20160309T220000Z
DTEND:20160311T070000Z
SUMMARY:Advanced Social Media Strategy - Sydney
GEO:-33.882867;151.195455
LOCATION:WWF Australia\, Level 1\, 1 Smail Street\, Ultimo\, Australia
END:VEVENT
END:VCALENDAR
