BEGIN:VCALENDAR
VERSION:2.0
PRODID:-//Squarespace Inc/Squarespace 6//v6//EN
BEGIN:VEVENT
UID:568e116fe0327c7b8a29dd79@squarespace.com
DTSTAMP:20160202T003212Z
DTSTART:20160302T220000Z
DTEND:20160304T060000Z
SUMMARY:Advanced Social Media Strategy - Melbourne
GEO:-37.804939;144.960258
LOCATION:Green Building\, 60 Leicester Street\, Carlton\, Melbourne
END:VEVENT
END:VCALENDAR
