BEGIN:VCALENDAR
VERSION:2.0
PRODID:-//Squarespace Inc/Squarespace 6//v6//EN
BEGIN:VEVENT
UID:568f2994dc5cb46c9e6caddd@squarespace.com
DTSTAMP:20160217T032705Z
DTSTART:20160307T220000Z
DTEND:20160309T070000Z
SUMMARY:Advanced Digital Training - Sydney
GEO:-33.894958;151.201623
LOCATION:National Centre of Indigenous Excellence\, 166-180 George Street\, 
 Redfern\, Sydney
END:VEVENT
END:VCALENDAR
