BEGIN:VCALENDAR
VERSION:2.0
PRODID:-//Squarespace Inc/Squarespace 6//v6//EN
BEGIN:VEVENT
UID:592624beb3db2b0d0d6d76eb@squarespace.com
DTSTAMP:20190723T002257Z
DTSTART:20170705T230000Z
DTEND:20170707T070000Z
SUMMARY:Digital Fundraising Training - Sydney
GEO:-33.883176;151.195544
LOCATION:WWF Australia\, Level 1\, 1 Smail Street\, Ultimo\, Sydney\, Austr
 alia
END:VEVENT
END:VCALENDAR
