BEGIN:VCALENDAR
VERSION:2.0
PRODID:-//Squarespace Inc/Squarespace 6//v6//EN
BEGIN:VEVENT
UID:59279b4d1e5b6c62d1bb28a0@squarespace.com
DTSTAMP:20190723T002257Z
DTSTART:20170704T230000Z
DTEND:20170705T070000Z
SUMMARY:Email Writing Masterclass - Sydney
GEO:-33.886111;151.211111
LOCATION:Surry Hills\, Sydney\, Australia
END:VEVENT
END:VCALENDAR
