BEGIN:VCALENDAR
VERSION:2.0
PRODID:-//Squarespace Inc/Squarespace 6//v6//EN
BEGIN:VEVENT
UID:568dee3569492e1954652ffb@squarespace.com
DTSTAMP:20190719T042210Z
DTSTART:20160228T220000Z
DTEND:20160301T060000Z
SUMMARY:Advanced Digital Training - Melbourne
GEO:-37.804939;144.960258
LOCATION:Green Building\, Level 1\, 60 Leicester Street\, Carlton\, Melbour
 ne
END:VEVENT
END:VCALENDAR
