BEGIN:VCALENDAR
VERSION:2.0
PRODID:-//Squarespace Inc/Squarespace 6//v6//EN
BEGIN:VEVENT
UID:5d3145722bf47d00010a534d@squarespace.com
DTSTAMP:20190725T011941Z
DTSTART:20190911T233000Z
DTEND:20190913T063000Z
SUMMARY:Advanced Digital Training - Sydney
GEO:-33.885131;151.211052
LOCATION:Canva\, 110 Kippax Street\, Surry Hills\, NSW\, 2010\, Australia
END:VEVENT
END:VCALENDAR
