BEGIN:VCALENDAR
VERSION:2.0
PRODID:-//Squarespace Inc/Squarespace 6//v6//EN
BEGIN:VEVENT
UID:5d3578257a6681000106a22e@squarespace.com
DTSTAMP:20190723T002911Z
DTSTART:20191009T223000Z
DTEND:20191011T053000Z
SUMMARY:Digital Fundraising Masterclass  - Melbourne
GEO:-37.804906;144.960796
LOCATION:Green Building\, 60 Leicester Street\, Carlton\, VIC\, 3053\, Aust
 ralia
END:VEVENT
END:VCALENDAR
