BEGIN:VCALENDAR
VERSION:2.0
PRODID:-//Squarespace Inc/Squarespace 6//v6//EN
BEGIN:VEVENT
UID:5dacf2df08ba722825e86bfd@squarespace.com
DTSTAMP:20191108T011404Z
DTSTART:20191201T220000Z
DTEND:20191206T080000Z
SUMMARY:OrganiseUs Climate Change Digital Intensive - Brisbane - (by applic
 ation only)
GEO:-27.470041;153.028877
LOCATION:MetroArts\, 109 Edward Street\, Brisbane City\, QLD\, 4000\, Austr
 alia
END:VEVENT
END:VCALENDAR
