BEGIN:VCALENDAR
VERSION:2.0
PRODID:-//Squarespace Inc/Squarespace 6//v6//EN
BEGIN:VEVENT
UID:5bdbbc6fb8a0458599d62922@squarespace.com
DTSTAMP:20191020T230250Z
DTSTART:20190203T220000Z
DTEND:20190208T080000Z
SUMMARY:OrganiseUs Digital Intensive 2019 - Melbourne!
GEO:-37.80197;145.00264
LOCATION:Abbotsford Convent\, 1 Saint Heliers Street\, Abbotsford\, VIC\, 3
 067\, Australia
END:VEVENT
END:VCALENDAR
