BEGIN:VCALENDAR
VERSION:2.0
PRODID:-//Squarespace Inc/Squarespace 6//v6//EN
BEGIN:VEVENT
UID:5dace79a08ba722825e78c0c@squarespace.com
DTSTAMP:20200113T043307Z
DTSTART:20200301T220000Z
DTEND:20200306T080000Z
SUMMARY:OrganiseUs Digital Intensive 2020 - Melbourne!
GEO:-37.80197;145.00264
LOCATION:Abbotsford Convent\, 1 Saint Heliers Street\, Abbotsford\, VIC\, 3
 067\, Australia
END:VEVENT
END:VCALENDAR
