BEGIN:VCALENDAR
VERSION:2.0
PRODID:-//Squarespace Inc/Squarespace 6//v6//EN
BEGIN:VEVENT
UID:594c8d1a725e25c149a96141@squarespace.com
DTSTAMP:20181102T025426Z
DTSTART:20180304T213000Z
DTEND:20180309T080000Z
SUMMARY:OrganiseUs Digital Intensive 2018 - Melbourne!
GEO:-37.80197;145.00264
LOCATION:Abbotsford Convent\, 1 Saint Heliers Street\, Abbotsford\, VIC\, 3
 067\, Australia
END:VEVENT
END:VCALENDAR
