BEGIN:VCALENDAR
VERSION:2.0
PRODID:-//Squarespace Inc/Squarespace 6//v6//EN
BEGIN:VEVENT
UID:59532470bebafb54f3d32a61@squarespace.com
DTSTAMP:20180222T015524Z
DTSTART:20180225T213000Z
DTEND:20180302T080000Z
SUMMARY:OrganiseUs Digital Intensive 2018 - Sydney!
GEO:-33.88591;151.211801
LOCATION:Canva\, 2 Lacey Street\, Surry Hills\, NSW\, 2010\, Australia
END:VEVENT
END:VCALENDAR
